BEGIN:VCALENDAR
VERSION:2.0
PRODID:-//Saint Martin du Var - ECPv6.15.20//NONSGML v1.0//EN
CALSCALE:GREGORIAN
METHOD:PUBLISH
X-WR-CALNAME:Saint Martin du Var
X-ORIGINAL-URL:https://www.saintmartinduvar.fr
X-WR-CALDESC:Évènements pour Saint Martin du Var
REFRESH-INTERVAL;VALUE=DURATION:PT1H
X-Robots-Tag:noindex
X-PUBLISHED-TTL:PT1H
BEGIN:VTIMEZONE
TZID:Europe/Paris
BEGIN:DAYLIGHT
TZOFFSETFROM:+0100
TZOFFSETTO:+0200
TZNAME:CEST
DTSTART:20220327T010000
END:DAYLIGHT
BEGIN:STANDARD
TZOFFSETFROM:+0200
TZOFFSETTO:+0100
TZNAME:CET
DTSTART:20221030T010000
END:STANDARD
BEGIN:DAYLIGHT
TZOFFSETFROM:+0100
TZOFFSETTO:+0200
TZNAME:CEST
DTSTART:20230326T010000
END:DAYLIGHT
BEGIN:STANDARD
TZOFFSETFROM:+0200
TZOFFSETTO:+0100
TZNAME:CET
DTSTART:20231029T010000
END:STANDARD
BEGIN:DAYLIGHT
TZOFFSETFROM:+0100
TZOFFSETTO:+0200
TZNAME:CEST
DTSTART:20240331T010000
END:DAYLIGHT
BEGIN:STANDARD
TZOFFSETFROM:+0200
TZOFFSETTO:+0100
TZNAME:CET
DTSTART:20241027T010000
END:STANDARD
END:VTIMEZONE
BEGIN:VEVENT
DTSTART;TZID=Europe/Paris:20231208T210000
DTEND;TZID=Europe/Paris:20231208T230000
DTSTAMP:20260425T200302
CREATED:20231117T064037Z
LAST-MODIFIED:20231117T064500Z
UID:24522-1702069200-1702076400@www.saintmartinduvar.fr
SUMMARY:LE VENDREDI C'EST THEATRE
DESCRIPTION:
URL:https://www.saintmartinduvar.fr/event/le-vendredi-cest-theatre/
LOCATION:Salle polyvalente François ZUCCA\, Route du Collège\, Saint-Martin-du-Var
CATEGORIES:Culturel
ATTACH;FMTTYPE=application/pdf:https://www.saintmartinduvar.fr/wp-content/uploads/2023/11/affiche-imprimeur-ça-reste-en-famille.pdf
END:VEVENT
END:VCALENDAR