BEGIN:VCALENDAR
VERSION:2.0
PRODID:-//Saint Martin du Var - ECPv6.15.20//NONSGML v1.0//EN
CALSCALE:GREGORIAN
METHOD:PUBLISH
X-ORIGINAL-URL:https://www.saintmartinduvar.fr
X-WR-CALDESC:Évènements pour Saint Martin du Var
REFRESH-INTERVAL;VALUE=DURATION:PT1H
X-Robots-Tag:noindex
X-PUBLISHED-TTL:PT1H
BEGIN:VTIMEZONE
TZID:Europe/Paris
BEGIN:DAYLIGHT
TZOFFSETFROM:+0100
TZOFFSETTO:+0200
TZNAME:CEST
DTSTART:20230326T010000
END:DAYLIGHT
BEGIN:STANDARD
TZOFFSETFROM:+0200
TZOFFSETTO:+0100
TZNAME:CET
DTSTART:20231029T010000
END:STANDARD
BEGIN:DAYLIGHT
TZOFFSETFROM:+0100
TZOFFSETTO:+0200
TZNAME:CEST
DTSTART:20240331T010000
END:DAYLIGHT
BEGIN:STANDARD
TZOFFSETFROM:+0200
TZOFFSETTO:+0100
TZNAME:CET
DTSTART:20241027T010000
END:STANDARD
BEGIN:DAYLIGHT
TZOFFSETFROM:+0100
TZOFFSETTO:+0200
TZNAME:CEST
DTSTART:20250330T010000
END:DAYLIGHT
BEGIN:STANDARD
TZOFFSETFROM:+0200
TZOFFSETTO:+0100
TZNAME:CET
DTSTART:20251026T010000
END:STANDARD
END:VTIMEZONE
BEGIN:VEVENT
DTSTART;TZID=Europe/Paris:20240525T150000
DTEND;TZID=Europe/Paris:20240525T170000
DTSTAMP:20260423T112047
CREATED:20240326T164814Z
LAST-MODIFIED:20240326T164814Z
UID:26429-1716649200-1716656400@www.saintmartinduvar.fr
SUMMARY:Conférence Science pour tous: Histoire des céréales et des légumineuses :  la révolution agricole du Néolithique
DESCRIPTION:
URL:https://www.saintmartinduvar.fr/event/conference-science-pour-tous-histoire-des-cereales-et-des-legumineuses-la-revolution-agricole-du-neolithique/
LOCATION:Salle des Associations\, Avenue Pasteur\, St Martin du Var\, 06670\, France
CATEGORIES:Conférences
ATTACH;FMTTYPE=image/jpeg:https://www.saintmartinduvar.fr/wp-content/uploads/2023/12/conference-histoire-cereales-legumineuses.jpg
END:VEVENT
END:VCALENDAR