BEGIN:VCALENDAR
VERSION:2.0
PRODID:-//Saint Martin du Var - ECPv6.15.20//NONSGML v1.0//EN
CALSCALE:GREGORIAN
METHOD:PUBLISH
X-ORIGINAL-URL:https://www.saintmartinduvar.fr
X-WR-CALDESC:Évènements pour Saint Martin du Var
REFRESH-INTERVAL;VALUE=DURATION:PT1H
X-Robots-Tag:noindex
X-PUBLISHED-TTL:PT1H
BEGIN:VTIMEZONE
TZID:Europe/Paris
BEGIN:DAYLIGHT
TZOFFSETFROM:+0100
TZOFFSETTO:+0200
TZNAME:CEST
DTSTART:20230326T010000
END:DAYLIGHT
BEGIN:STANDARD
TZOFFSETFROM:+0200
TZOFFSETTO:+0100
TZNAME:CET
DTSTART:20231029T010000
END:STANDARD
BEGIN:DAYLIGHT
TZOFFSETFROM:+0100
TZOFFSETTO:+0200
TZNAME:CEST
DTSTART:20240331T010000
END:DAYLIGHT
BEGIN:STANDARD
TZOFFSETFROM:+0200
TZOFFSETTO:+0100
TZNAME:CET
DTSTART:20241027T010000
END:STANDARD
BEGIN:DAYLIGHT
TZOFFSETFROM:+0100
TZOFFSETTO:+0200
TZNAME:CEST
DTSTART:20250330T010000
END:DAYLIGHT
BEGIN:STANDARD
TZOFFSETFROM:+0200
TZOFFSETTO:+0100
TZNAME:CET
DTSTART:20251026T010000
END:STANDARD
END:VTIMEZONE
BEGIN:VEVENT
DTSTART;TZID=Europe/Paris:20240406T180000
DTEND;TZID=Europe/Paris:20240406T220000
DTSTAMP:20260425T024505
CREATED:20240320T075602Z
LAST-MODIFIED:20240320T075749Z
UID:26341-1712426400-1712440800@www.saintmartinduvar.fr
SUMMARY:Le 6 avril 2024 à 18h00 : concert des Chœurs du Mercantour  en l'église de Saint-Martin-du-Var
DESCRIPTION:
URL:https://www.saintmartinduvar.fr/event/les-choeurs-du-mercantour-organiseront-une-representation-a-leglise-de-saint-martin-du-var-le-6-avril-2024-a-18h00/
LOCATION:Eglise de Saint-Martin-du-Var
CATEGORIES:Concert,Culturel
ATTACH;FMTTYPE=image/jpeg:https://www.saintmartinduvar.fr/wp-content/uploads/2024/03/2024-04-06-Affiche-concert-SMVar-legere-scaled.jpg
END:VEVENT
END:VCALENDAR