BEGIN:VCALENDAR
VERSION:2.0
PRODID:-//Saint Martin du Var - ECPv6.15.20//NONSGML v1.0//EN
CALSCALE:GREGORIAN
METHOD:PUBLISH
X-ORIGINAL-URL:https://www.saintmartinduvar.fr
X-WR-CALDESC:Évènements pour Saint Martin du Var
REFRESH-INTERVAL;VALUE=DURATION:PT1H
X-Robots-Tag:noindex
X-PUBLISHED-TTL:PT1H
BEGIN:VTIMEZONE
TZID:UTC
BEGIN:STANDARD
TZOFFSETFROM:+0000
TZOFFSETTO:+0000
TZNAME:UTC
DTSTART:20210101T000000
END:STANDARD
END:VTIMEZONE
BEGIN:VEVENT
DTSTART;TZID=UTC:20220507T183000
DTEND;TZID=UTC:20220507T233000
DTSTAMP:20260423T222358
CREATED:20220420T151124Z
LAST-MODIFIED:20220420T151202Z
UID:19100-1651948200-1651966200@www.saintmartinduvar.fr
SUMMARY:Retransmission de la finale Ogcnice - FC Nantes
DESCRIPTION:
URL:https://www.saintmartinduvar.fr/event/retransmission-de-la-finale-ogcnice-fc-nantes/
LOCATION:Théâtre de Verdure\, St Martin du Var\, 06670\, France
CATEGORIES:Sports
ATTACH;FMTTYPE=image/jpeg:https://www.saintmartinduvar.fr/wp-content/uploads/2022/04/6.jpg
END:VEVENT
END:VCALENDAR