BEGIN:VCALENDAR
VERSION:2.0
PRODID:-//Saint Martin du Var - ECPv6.15.20//NONSGML v1.0//EN
CALSCALE:GREGORIAN
METHOD:PUBLISH
X-ORIGINAL-URL:https://www.saintmartinduvar.fr
X-WR-CALDESC:Évènements pour Saint Martin du Var
REFRESH-INTERVAL;VALUE=DURATION:PT1H
X-Robots-Tag:noindex
X-PUBLISHED-TTL:PT1H
BEGIN:VTIMEZONE
TZID:Europe/Paris
BEGIN:DAYLIGHT
TZOFFSETFROM:+0100
TZOFFSETTO:+0200
TZNAME:CEST
DTSTART:20200329T010000
END:DAYLIGHT
BEGIN:STANDARD
TZOFFSETFROM:+0200
TZOFFSETTO:+0100
TZNAME:CET
DTSTART:20201025T010000
END:STANDARD
BEGIN:DAYLIGHT
TZOFFSETFROM:+0100
TZOFFSETTO:+0200
TZNAME:CEST
DTSTART:20210328T010000
END:DAYLIGHT
BEGIN:STANDARD
TZOFFSETFROM:+0200
TZOFFSETTO:+0100
TZNAME:CET
DTSTART:20211031T010000
END:STANDARD
BEGIN:DAYLIGHT
TZOFFSETFROM:+0100
TZOFFSETTO:+0200
TZNAME:CEST
DTSTART:20220327T010000
END:DAYLIGHT
BEGIN:STANDARD
TZOFFSETFROM:+0200
TZOFFSETTO:+0100
TZNAME:CET
DTSTART:20221030T010000
END:STANDARD
END:VTIMEZONE
BEGIN:VEVENT
DTSTART;TZID=Europe/Paris:20210911T100000
DTEND;TZID=Europe/Paris:20210911T130000
DTSTAMP:20260424T120812
CREATED:20210902T201115Z
LAST-MODIFIED:20210902T201115Z
UID:16770-1631354400-1631365200@www.saintmartinduvar.fr
SUMMARY:Forum des associations 2021
DESCRIPTION:
URL:https://www.saintmartinduvar.fr/event/forum-des-associations-2021/
LOCATION:Complexe sportif\, st martin du var\, 06670\, France
CATEGORIES:Associations,Sports
ATTACH;FMTTYPE=image/jpeg:https://www.saintmartinduvar.fr/wp-content/uploads/2018/08/P1000907.jpg
END:VEVENT
END:VCALENDAR